BEGIN:VCALENDAR
VERSION:2.0
PRODID:-//Permanency Hub MN - ECPv6.15.20//NONSGML v1.0//EN
CALSCALE:GREGORIAN
METHOD:PUBLISH
X-ORIGINAL-URL:https://permanencyhubmn.org
X-WR-CALDESC:Events for Permanency Hub MN
REFRESH-INTERVAL;VALUE=DURATION:PT1H
X-Robots-Tag:noindex
X-PUBLISHED-TTL:PT1H
BEGIN:VTIMEZONE
TZID:America/Chicago
BEGIN:DAYLIGHT
TZOFFSETFROM:-0600
TZOFFSETTO:-0500
TZNAME:CDT
DTSTART:20250309T080000
END:DAYLIGHT
BEGIN:STANDARD
TZOFFSETFROM:-0500
TZOFFSETTO:-0600
TZNAME:CST
DTSTART:20251102T070000
END:STANDARD
BEGIN:DAYLIGHT
TZOFFSETFROM:-0600
TZOFFSETTO:-0500
TZNAME:CDT
DTSTART:20260308T080000
END:DAYLIGHT
BEGIN:STANDARD
TZOFFSETFROM:-0500
TZOFFSETTO:-0600
TZNAME:CST
DTSTART:20261101T070000
END:STANDARD
BEGIN:DAYLIGHT
TZOFFSETFROM:-0600
TZOFFSETTO:-0500
TZNAME:CDT
DTSTART:20270314T080000
END:DAYLIGHT
BEGIN:STANDARD
TZOFFSETFROM:-0500
TZOFFSETTO:-0600
TZNAME:CST
DTSTART:20271107T070000
END:STANDARD
END:VTIMEZONE
BEGIN:VEVENT
DTSTART;TZID=America/Chicago:20260506T130000
DTEND;TZID=America/Chicago:20260506T143000
DTSTAMP:20260422T153051
CREATED:20260401T150745Z
LAST-MODIFIED:20260401T150745Z
UID:10003119-1778072400-1778077800@permanencyhubmn.org
SUMMARY:Preparing Birth and Adoptive Families for Healthy Adoption Relationships
DESCRIPTION:Building healthy relationships between bio/birth families and foster/adoptive families ideally begins long before an adoption occurs\, but various factors can make this difficult or impossible. This workshop explores how education can empower birth families and adoptive families to understand their distinct roles\, rights\, and responsibilities\, laying the groundwork for open and respectful connections after placement. We will explore the facets of open adoption contact and the “homework” that foster and adoptive parents still have to do when contact is not currently safe or accessible. We will discuss the role that technology plays in open adoption and how everyone deserves to set boundaries\, not just the power holders. Finally\, we’ll confront the realities of building trust across socioeconomic and power divides and identify practical ways to create bridges of empathy\, accountability\, and mutual respect that truly honor the child at the center of the adoption constellation.
URL:https://permanencyhubmn.org/event/preparing-birth-and-adoptive-families-for-healthy-adoption-relationships/
CATEGORIES:- Birth/First Parents,- Foster Parents,- Kinship/Adoptive/Foster Parents,- Ongoing Learning,- Professionals,AUDIENCE,FAMILY CALENDAR
END:VEVENT
END:VCALENDAR