BEGIN:VCALENDAR
VERSION:2.0
PRODID:-//Permanency Hub MN - ECPv6.15.20//NONSGML v1.0//EN
CALSCALE:GREGORIAN
METHOD:PUBLISH
X-ORIGINAL-URL:https://permanencyhubmn.org
X-WR-CALDESC:Events for Permanency Hub MN
REFRESH-INTERVAL;VALUE=DURATION:PT1H
X-Robots-Tag:noindex
X-PUBLISHED-TTL:PT1H
BEGIN:VTIMEZONE
TZID:America/Chicago
BEGIN:DAYLIGHT
TZOFFSETFROM:-0600
TZOFFSETTO:-0500
TZNAME:CDT
DTSTART:20240310T080000
END:DAYLIGHT
BEGIN:STANDARD
TZOFFSETFROM:-0500
TZOFFSETTO:-0600
TZNAME:CST
DTSTART:20241103T070000
END:STANDARD
BEGIN:DAYLIGHT
TZOFFSETFROM:-0600
TZOFFSETTO:-0500
TZNAME:CDT
DTSTART:20250309T080000
END:DAYLIGHT
BEGIN:STANDARD
TZOFFSETFROM:-0500
TZOFFSETTO:-0600
TZNAME:CST
DTSTART:20251102T070000
END:STANDARD
BEGIN:DAYLIGHT
TZOFFSETFROM:-0600
TZOFFSETTO:-0500
TZNAME:CDT
DTSTART:20260308T080000
END:DAYLIGHT
BEGIN:STANDARD
TZOFFSETFROM:-0500
TZOFFSETTO:-0600
TZNAME:CST
DTSTART:20261101T070000
END:STANDARD
END:VTIMEZONE
BEGIN:VEVENT
DTSTART;TZID=America/Chicago:20250722T100000
DTEND;TZID=America/Chicago:20250722T113000
DTSTAMP:20260421T074026
CREATED:20250604T162159Z
LAST-MODIFIED:20250604T162159Z
UID:10002646-1753178400-1753183800@permanencyhubmn.org
SUMMARY:The Impact of Technology and Social Media on Children and Adolescents
DESCRIPTION:Summertime means more time for social media!  This presentation will provide an overview of the increasing rates of technology and social media among youth. It will discuss the impact of technology and social media usage that it has on children and teens socially\, emotionally and cognitively. The presentation will provide practical tips to help children and teens manage social media usage along with helpful resources. It will discuss the importance of moderation and supervision along with tips for parents. \n  \n\nDr. Heather Siek obtained her undergraduate degree in Psychology and Child Development from NDSU in Fargo\, ND. She went right on to graduate school where she obtained her doctorate in Clinical Psychology. She holds a license as a professional clinical counselor. She has spent the last 14 years working as an outpatient therapist at non-profit clinics specializing in anxiety disorders\, early childhood trauma and behavioral disorders. She is trained in many evidence based interventions. She currently works full-time as an Assistant Professor of Psychology at MSUM in Moorhead\, MN. She continues to see a few clients a week at a local non-profit\, The Village Family Service Center. Heather is also an adoptive mother to a 5 year old little girl.
URL:https://permanencyhubmn.org/event/the-impact-of-technology-and-social-media-on-children-and-adolescents/
LOCATION:Zoom Link
CATEGORIES:- Foster Parents,- Kinship/Adoptive/Foster Parents,- Ongoing Learning,- Pre-Adopt Parents,- Professionals
END:VEVENT
BEGIN:VEVENT
DTSTART;TZID=America/Chicago:20250722T180000
DTEND;TZID=America/Chicago:20250722T193000
DTSTAMP:20260421T074026
CREATED:20250303T194110Z
LAST-MODIFIED:20250616T152707Z
UID:10002132-1753207200-1753212600@permanencyhubmn.org
SUMMARY:Support Group: Central MN Parenting Support
DESCRIPTION:Join our in-person support group for foster\, adoptive\, and kinship caregivers in St Cloud and surrounding area.\nChildcare and dinner are provided.\nPre-registration is required. Click on the Support Group Link to pre-register.\nLocation: 1300 W. St. Germain St. Room 268 \nFacilitated by Katie Nueman\nParent Support Specialist
URL:https://permanencyhubmn.org/event/support-group-central-mn-parenting-support/2025-07-22/
LOCATION:Great River Regional Library\, 1300 W. St. Germain St.\, St. Cloud\, 56301
CATEGORIES:- Children (0-10),- Foster Parents,- Kinship/Adoptive/Foster Parents,- Pre-Adopt Parents,- Support Groups,- Youth (11-18)
END:VEVENT
END:VCALENDAR