BEGIN:VCALENDAR
VERSION:2.0
PRODID:-//Permanency Hub MN - ECPv6.15.20//NONSGML v1.0//EN
CALSCALE:GREGORIAN
METHOD:PUBLISH
X-ORIGINAL-URL:https://permanencyhubmn.org
X-WR-CALDESC:Events for Permanency Hub MN
REFRESH-INTERVAL;VALUE=DURATION:PT1H
X-Robots-Tag:noindex
X-PUBLISHED-TTL:PT1H
BEGIN:VTIMEZONE
TZID:America/Chicago
BEGIN:DAYLIGHT
TZOFFSETFROM:-0600
TZOFFSETTO:-0500
TZNAME:CDT
DTSTART:20250309T080000
END:DAYLIGHT
BEGIN:STANDARD
TZOFFSETFROM:-0500
TZOFFSETTO:-0600
TZNAME:CST
DTSTART:20251102T070000
END:STANDARD
BEGIN:DAYLIGHT
TZOFFSETFROM:-0600
TZOFFSETTO:-0500
TZNAME:CDT
DTSTART:20260308T080000
END:DAYLIGHT
BEGIN:STANDARD
TZOFFSETFROM:-0500
TZOFFSETTO:-0600
TZNAME:CST
DTSTART:20261101T070000
END:STANDARD
BEGIN:DAYLIGHT
TZOFFSETFROM:-0600
TZOFFSETTO:-0500
TZNAME:CDT
DTSTART:20270314T080000
END:DAYLIGHT
BEGIN:STANDARD
TZOFFSETFROM:-0500
TZOFFSETTO:-0600
TZNAME:CST
DTSTART:20271107T070000
END:STANDARD
END:VTIMEZONE
BEGIN:VEVENT
DTSTART;TZID=America/Chicago:20260325T120000
DTEND;TZID=America/Chicago:20260325T130000
DTSTAMP:20260423T042752
CREATED:20260303T212408Z
LAST-MODIFIED:20260303T212408Z
UID:10003105-1774440000-1774443600@permanencyhubmn.org
SUMMARY:Important for 2026\, Know Your Rights Information and Resources for Non-Citizen Youth
DESCRIPTION:Foster Parents\, Caregivers and Professionals supporting youth will learn about rights of youth\, safety planning essentials\, and changes for non citizen youth in 2026. Come learn from immigration and state law professionals who serve many youth in child protection proceedings and will share essential resources for the youth in your care.
URL:https://permanencyhubmn.org/event/important-for-2026-know-your-rights-information-and-resources-for-non-citizen-youth/
CATEGORIES:- Foster Parents,- Kinship/Adoptive/Foster Parents,- Ongoing Learning,- Professionals,AUDIENCE,FAMILY CALENDAR
END:VEVENT
END:VCALENDAR