BEGIN:VCALENDAR
VERSION:2.0
PRODID:-//Permanency Hub MN - ECPv6.15.20//NONSGML v1.0//EN
CALSCALE:GREGORIAN
METHOD:PUBLISH
X-ORIGINAL-URL:https://permanencyhubmn.org
X-WR-CALDESC:Events for Permanency Hub MN
REFRESH-INTERVAL;VALUE=DURATION:PT1H
X-Robots-Tag:noindex
X-PUBLISHED-TTL:PT1H
BEGIN:VTIMEZONE
TZID:America/Chicago
BEGIN:DAYLIGHT
TZOFFSETFROM:-0600
TZOFFSETTO:-0500
TZNAME:CDT
DTSTART:20250309T080000
END:DAYLIGHT
BEGIN:STANDARD
TZOFFSETFROM:-0500
TZOFFSETTO:-0600
TZNAME:CST
DTSTART:20251102T070000
END:STANDARD
BEGIN:DAYLIGHT
TZOFFSETFROM:-0600
TZOFFSETTO:-0500
TZNAME:CDT
DTSTART:20260308T080000
END:DAYLIGHT
BEGIN:STANDARD
TZOFFSETFROM:-0500
TZOFFSETTO:-0600
TZNAME:CST
DTSTART:20261101T070000
END:STANDARD
BEGIN:DAYLIGHT
TZOFFSETFROM:-0600
TZOFFSETTO:-0500
TZNAME:CDT
DTSTART:20270314T080000
END:DAYLIGHT
BEGIN:STANDARD
TZOFFSETFROM:-0500
TZOFFSETTO:-0600
TZNAME:CST
DTSTART:20271107T070000
END:STANDARD
END:VTIMEZONE
BEGIN:VEVENT
DTSTART;TZID=America/Chicago:20260113T173000
DTEND;TZID=America/Chicago:20260113T193000
DTSTAMP:20260421T071654
CREATED:20251110T193536Z
LAST-MODIFIED:20251110T193536Z
UID:10002918-1768325400-1768332600@permanencyhubmn.org
SUMMARY:Black Teens in Action 2026 Cohort
DESCRIPTION:Black Teens in Action is a youth driven\, in-person program where Black teens can grow\, connect\, and take action together. Over four weeks\, participants will design and lead a community service project that makes a real impact—whether it’s hosting a block party\, organizing a cleanup\, or preparing meals for those in need.\nYouth will meet once a week for three weeks to plan\, gain leadership and advocacy skills\, build relationships\, and explore their cultural identity through meaningful discussions and team-building activities. The final fourth week is dedicated to bringing their project to life in the local BIPOC community. \nYouth will receive a stipend of $550 for their time and leadership if they participate in the entire program. Dinner will be provided at each meeting. \nTo qualify for Black Teens in Action\, teens need to be: \n\nBetween 13-17 years-old\nIdentify as Black or African American\nHave been adopted\, or currently in Foster Care or Kinship Care in Minnesota.\n\nThis program can only accommodate 10 youth on a first come first serve\, all other youth will be waitlisted.\n\nDates: \n\nJanuary 6\, 2026\nJanuary 13\, 2026\nJanuary 20\, 2026\nJanuary 27\, 2026\n\nTime: 5:30pm – 7:30pm \nLocation: Storehouse Grocers in St. Paul (subject to change) \nUMOJA MN is a MN Department of Children\, Youth and Families funded program for families and caregivers of Black children and youth who are adopted or fostered in MN.
URL:https://permanencyhubmn.org/event/black-teens-in-action-2026-cohort/2026-01-13/
CATEGORIES:- Activities,- Youth (11-18)
END:VEVENT
END:VCALENDAR