BEGIN:VCALENDAR
VERSION:2.0
PRODID:-//Permanency Hub MN - ECPv6.15.20//NONSGML v1.0//EN
CALSCALE:GREGORIAN
METHOD:PUBLISH
X-ORIGINAL-URL:https://permanencyhubmn.org
X-WR-CALDESC:Events for Permanency Hub MN
REFRESH-INTERVAL;VALUE=DURATION:PT1H
X-Robots-Tag:noindex
X-PUBLISHED-TTL:PT1H
BEGIN:VTIMEZONE
TZID:America/Chicago
BEGIN:DAYLIGHT
TZOFFSETFROM:-0600
TZOFFSETTO:-0500
TZNAME:CDT
DTSTART:20240310T080000
END:DAYLIGHT
BEGIN:STANDARD
TZOFFSETFROM:-0500
TZOFFSETTO:-0600
TZNAME:CST
DTSTART:20241103T070000
END:STANDARD
BEGIN:DAYLIGHT
TZOFFSETFROM:-0600
TZOFFSETTO:-0500
TZNAME:CDT
DTSTART:20250309T080000
END:DAYLIGHT
BEGIN:STANDARD
TZOFFSETFROM:-0500
TZOFFSETTO:-0600
TZNAME:CST
DTSTART:20251102T070000
END:STANDARD
BEGIN:DAYLIGHT
TZOFFSETFROM:-0600
TZOFFSETTO:-0500
TZNAME:CDT
DTSTART:20260308T080000
END:DAYLIGHT
BEGIN:STANDARD
TZOFFSETFROM:-0500
TZOFFSETTO:-0600
TZNAME:CST
DTSTART:20261101T070000
END:STANDARD
END:VTIMEZONE
BEGIN:VEVENT
DTSTART;TZID=America/Chicago:20250911T090000
DTEND;TZID=America/Chicago:20250911T103000
DTSTAMP:20260423T043021
CREATED:20250303T192822Z
LAST-MODIFIED:20250303T192822Z
UID:10001894-1757581200-1757586600@permanencyhubmn.org
SUMMARY:Support Group: Kinship Caregivers Support
DESCRIPTION:Join us for a monthly virtual support group for kinship caregivers.\nClick on the Support Group Link to join.\nFacilitated by Katie Neuman\nParent Support Specialist
URL:https://permanencyhubmn.org/event/support-group-kinship-caregivers-support/2025-09-11/
LOCATION:Zoom Link
CATEGORIES:- Foster Parents,- Kinship/Adoptive/Foster Parents,- Pre-Adopt Parents,- Support Groups
END:VEVENT
BEGIN:VEVENT
DTSTART;TZID=America/Chicago:20250911T090000
DTEND;TZID=America/Chicago:20250912T170000
DTSTAMP:20260423T043021
CREATED:20240123T221356Z
LAST-MODIFIED:20260416T151209Z
UID:10002665-1757581200-1757696400@permanencyhubmn.org
SUMMARY:Foster Care and Adoption Education Classes – In-Person
DESCRIPTION:The in-person track is best suited for individuals who need or desire to complete their education quickly\, prefer in-person learning and/or those who have previously completed education and want a refresher course. \nThis track will primarily take place during two live consecutive days (Friday/Saturday) with minimal use of the online learning management system which includes introductory sessions as well as a pre- and post- test. \n 
URL:https://permanencyhubmn.org/event/foster-care-and-adoption-education-classes-in-person-3/2025-09-11/
LOCATION:Children’s Home – St. Paul Office\, 1605 Eustis Street\, Saint Paul\, MN\, 55108\, United States
CATEGORIES:- Pre-Adopt Parents,- Pre-Adoption Classes & Orientation
ORGANIZER;CN="Children's Home Society of Minnesota":MAILTO:welcome@chlss.org
END:VEVENT
BEGIN:VEVENT
DTSTART;TZID=America/Chicago:20250911T130000
DTEND;TZID=America/Chicago:20250911T143000
DTSTAMP:20260423T043021
CREATED:20250808T122246Z
LAST-MODIFIED:20250811T195713Z
UID:10002684-1757595600-1757601000@permanencyhubmn.org
SUMMARY:The Increasing Rates of Childhood and Adolescent Anxiety 
DESCRIPTION:This presentation will provide education on childhood/adolescent anxiety symptoms and disorders. It will focus on education around how these disorders present and reasons why anxiety is increasing among our youth. The presentation will provide clinical examples and case studies. Interventions will be provided to help treat childhood and adolescent anxiety.
URL:https://permanencyhubmn.org/event/the-increasing-rates-of-childhood-and-adolescent-anxiety-2/
CATEGORIES:- Foster Parents,- Kinship/Adoptive/Foster Parents,- Ongoing Learning,- Pre-Adopt Parents,- Professionals,FAMILY CALENDAR
LOCATION:https://permanencyhubmn.org/event/the-increasing-rates-of-childhood-and-adolescent-anxiety-2/
END:VEVENT
BEGIN:VEVENT
DTSTART;TZID=America/Chicago:20250911T180000
DTEND;TZID=America/Chicago:20250911T193000
DTSTAMP:20260423T043021
CREATED:20240124T174128Z
LAST-MODIFIED:20250905T112604Z
UID:10001379-1757613600-1757619000@permanencyhubmn.org
SUMMARY:Adult Adoptee Support Group
DESCRIPTION:Adult Adoptees from all placing agencies are welcome to attend. While each story is unique\, we recognize that there are many core similarities that adoption weaves into life experiences. Topics will be suggested\, but each month the conversation will be open to relevant\, participant-led\, discussion. This is a safe\, confidential space\, the group is facilitated by adult adoptee CH/LSS staff. \nParticipants may have been adopted through any type of adoption (infant\, international\, foster care adoption) and through any agency/county. After registration\, you will receive information to join the next session. This service is provided by funding made possible by the Minnesota Department of Children\, Youth\, and Families. \nMeeting Details\nThis group meets on the second Thursday of the month from 6:00-7:30 p.m. (CT). Meetings alternate between online and in-person options. There is no cost to attend. You may register to attend one\, multiple\, or all dates offered below. \nIn-person meetings will take place at our main office: 1605 Eustis Street\, Saint Paul\, MN 55108. \nFor virtual meetings\, you will receive a Zoom link via email the day of the meeting.
URL:https://permanencyhubmn.org/event/adult-adoptee-support-group-2/2025-09-11/
LOCATION:– Online Webinar/Training\, Support Group\, or Meeting\, MN\, United States
CATEGORIES:- Adult Adoptees,- Support Groups
ORGANIZER;CN="Children's Home Society of Minnesota":MAILTO:welcome@chlss.org
END:VEVENT
BEGIN:VEVENT
DTSTART;TZID=America/Chicago:20250911T180000
DTEND;TZID=America/Chicago:20250911T200000
DTSTAMP:20260423T043021
CREATED:20240617T145258Z
LAST-MODIFIED:20250129T200047Z
UID:10001312-1757613600-1757620800@permanencyhubmn.org
SUMMARY:Parenting in Racially and Culturally Diverse Families Training
DESCRIPTION:This training helps participants understand the impact of parenting children from different racial/ethnic/cultural backgrounds and to know how to honor and incorporate child’s race/ethnicity/culture into their existing family system. Strategies are identified to help children develop positive and proud identities and to help children and families prepare for and handle racism in all forms. Openness to a child’s sexual orientation and gender identity and expression and viewing these differences from a strengths-based perspective is also highlighted. \nThis training is for Ampersand non-relative families who are going through the home study assessment process. Please consult with your permanency specialist before signing up. \nAll trainings are subject to change or cancellation based on need.
URL:https://permanencyhubmn.org/event/parenting-in-racially-and-culturally-diverse-families-training-2/2025-09-11/
LOCATION:– Online Webinar/Training\, Support Group\, or Meeting\, MN\, United States
CATEGORIES:- Ongoing Learning
END:VEVENT
END:VCALENDAR